BEGIN:VCALENDAR
VERSION:2.0
PRODID:-//hacksw/handcal//NONSGML v1.0//EN
BEGIN:VEVENT
SUMMARY:Assemblee Generale ALTP
UID:2445f0b9-7ef6-4332-a147-f340aedf5cb4
DTSTART:20250927T100000Z
DTEND:20250927T120000Z
LOCATION:Localisation   
CATEGORIES:Administratif
STATUS:
URL;VALUE=URI:https://alerte-tir.sportsregions.fr/evenements/2025/09/27/assemblee-generale-altp-2438619
END:VEVENT
END:VCALENDAR
