BEGIN:VCALENDAR
VERSION:2.0
PRODID:-//hacksw/handcal//NONSGML v1.0//EN
BEGIN:VEVENT
SUMMARY:Championnats Regionaux - 10/18m
UID:15d84d01-265e-48a6-bcdf-07405c5c5410
DTSTART:20251205T230000Z
DTEND:20251207T230000Z
LOCATION:Localisation   
CATEGORIES:Sportif
STATUS:
DESCRIPTION:<p><u>Lieu :</u> TSB</p>
URL;VALUE=URI:https://alerte-tir.sportsregions.fr/evenements/2025/12/06/championnats-regionaux-1018m-2437424
END:VEVENT
END:VCALENDAR
