BEGIN:VCALENDAR
VERSION:2.0
PRODID:-//hacksw/handcal//NONSGML v1.0//EN
BEGIN:VEVENT
SUMMARY:Championnats Regionaux des clubs - 10/18m
UID:8903c403-0666-4b90-ae6a-5558d368550f
DTSTART:20260116T230000Z
DTEND:20260118T230000Z
LOCATION:Localisation   
CATEGORIES:Sportif
STATUS:
DESCRIPTION:<p><u>Lieu </u>: TSB</p>
URL;VALUE=URI:https://alerte-tir.sportsregions.fr/evenements/2026/01/17/championnats-regionaux-des-clubs-1018m-2437428
END:VEVENT
END:VCALENDAR
