BEGIN:VCALENDAR
VERSION:2.0
PRODID:-//hacksw/handcal//NONSGML v1.0//EN
BEGIN:VEVENT
SUMMARY:Championnat de France - 10/18m
UID:b342e438-e2e5-4766-9440-dc2ab3317e2e
DTSTART:20260125T230000Z
DTEND:20260131T230000Z
LOCATION:Localisation   
CATEGORIES:Sportif
STATUS:
DESCRIPTION:<p><u>Lieu :</u> Besancon</p>
URL;VALUE=URI:https://alerte-tir.sportsregions.fr/evenements/2026/01/26/championnat-de-france-1018m-2437429
END:VEVENT
END:VCALENDAR
