BEGIN:VCALENDAR
VERSION:2.0
PRODID:-//hacksw/handcal//NONSGML v1.0//EN
BEGIN:VEVENT
SUMMARY:Championnats Regionaux Ecoles De Tir - 10m
UID:473778d2-e97b-424c-848f-f1c8eee177c5
DTSTART:20260327T230000Z
DTEND:20260329T230000Z
LOCATION:Localisation   
CATEGORIES:Sportif
STATUS:
DESCRIPTION:<p><u>Lieu</u> : Tir Sportif Beaumontois</p>
URL;VALUE=URI:https://alerte-tir.sportsregions.fr/evenements/2026/03/28/championnats-regionaux-ecoles-de-tir-10m-2437192
END:VEVENT
END:VCALENDAR
