BEGIN:VCALENDAR
VERSION:2.0
PRODID:-//hacksw/handcal//NONSGML v1.0//EN
BEGIN:VEVENT
SUMMARY:Nettoyage du stand 25/50m
UID:9d2951d7-c2c6-4a29-ba13-e5b3bcbe4116
DTSTART:20260501T220000Z
DTEND:20260502T220000Z
LOCATION:Localisation   
CATEGORIES:Caritatif
STATUS:
URL;VALUE=URI:https://alerte-tir.sportsregions.fr/evenements/2026/05/02/nettoyage-du-stand-2550m-2438633
END:VEVENT
END:VCALENDAR
