BEGIN:VCALENDAR
VERSION:2.0
PRODID:-//hacksw/handcal//NONSGML v1.0//EN
BEGIN:VEVENT
SUMMARY:Fermeture du stand 10m - Fin de saison (pour tous)
UID:ba96eabd-97cc-4cd4-ba95-6e7ae28c5ae9
DTSTART:20260625T220000Z
DTEND:20260827T220000Z
LOCATION:Localisation   
CATEGORIES:Administratif
STATUS:
URL;VALUE=URI:https://alerte-tir.sportsregions.fr/evenements/2026/06/26/fermeture-du-stand-10m-fin-de-saison-pour-tous-2438969
END:VEVENT
END:VCALENDAR
