BEGIN:VCALENDAR
VERSION:2.0
PRODID:-//hacksw/handcal//NONSGML v1.0//EN
BEGIN:VEVENT
SUMMARY:Marche de Noel - La Tour-du-Pin
UID:a94e7ba4-bb0e-4377-820b-37a8c7deeeae
DTSTART:20261207T230000Z
DTEND:20261208T230000Z
LOCATION:Localisation   
CATEGORIES:Festif
STATUS:
URL;VALUE=URI:https://alerte-tir.sportsregions.fr/evenements/2026/12/08/marche-de-noel-la-tour-du-pin-2438635
END:VEVENT
END:VCALENDAR
